BEGIN:VCALENDAR
VERSION:2.0
PRODID:-//Blue Ridge Estates Homeowners Association - ECPv6.15.17.1//NONSGML v1.0//EN
CALSCALE:GREGORIAN
METHOD:PUBLISH
X-ORIGINAL-URL:https://blueridgeestates.org
X-WR-CALDESC:Events for Blue Ridge Estates Homeowners Association
REFRESH-INTERVAL;VALUE=DURATION:PT1H
X-Robots-Tag:noindex
X-PUBLISHED-TTL:PT1H
BEGIN:VTIMEZONE
TZID:UTC
BEGIN:STANDARD
TZOFFSETFROM:+0000
TZOFFSETTO:+0000
TZNAME:UTC
DTSTART:20240101T000000
END:STANDARD
END:VTIMEZONE
BEGIN:VEVENT
DTSTART;VALUE=DATE:20250515
DTEND;VALUE=DATE:20250616
DTSTAMP:20260419T220908
CREATED:20250221T163039Z
LAST-MODIFIED:20250221T163222Z
UID:3650-1747267200-1750031999@blueridgeestates.org
SUMMARY:2025 BRE HOA Fire Safety Lot Inspections
DESCRIPTION:
URL:https://blueridgeestates.org/event/2025-bre-hoa-fire-safety-lot-inspections-begin/
ORGANIZER;CN="Catherine Rogers":MAILTO:bre-fsc@blueridgeestates.org
END:VEVENT
END:VCALENDAR