BEGIN:VCALENDAR
VERSION:2.0
PRODID:-//Blue Ridge Estates Homeowners Association - ECPv6.15.17.1//NONSGML v1.0//EN
CALSCALE:GREGORIAN
METHOD:PUBLISH
X-WR-CALNAME:Blue Ridge Estates Homeowners Association
X-ORIGINAL-URL:https://blueridgeestates.org
X-WR-CALDESC:Events for Blue Ridge Estates Homeowners Association
REFRESH-INTERVAL;VALUE=DURATION:PT1H
X-Robots-Tag:noindex
X-PUBLISHED-TTL:PT1H
BEGIN:VTIMEZONE
TZID:America/Phoenix
BEGIN:STANDARD
TZOFFSETFROM:-0700
TZOFFSETTO:-0700
TZNAME:MST
DTSTART:20190101T000000
END:STANDARD
END:VTIMEZONE
BEGIN:VTIMEZONE
TZID:UTC
BEGIN:STANDARD
TZOFFSETFROM:+0000
TZOFFSETTO:+0000
TZNAME:UTC
DTSTART:20190101T000000
END:STANDARD
END:VTIMEZONE
BEGIN:VEVENT
DTSTART;TZID=America/Phoenix:20201212T100000
DTEND;TZID=America/Phoenix:20201212T110000
DTSTAMP:20260420T034047
CREATED:20201115T161948Z
LAST-MODIFIED:20201116T041603Z
UID:3099-1607767200-1607770800@blueridgeestates.org
SUMMARY:BRE HOA Board Meeting
DESCRIPTION:
URL:https://blueridgeestates.org/event/bre-hoa-board-meeting-december-2020/
LOCATION:Video/Audio Conference Call-in:  (669) 900-6833;  Meeting ID: 827 6230 3568;  Passcode: 289995
END:VEVENT
BEGIN:VEVENT
DTSTART;TZID=UTC:20201127T173000
DTEND;TZID=UTC:20201127T200000
DTSTAMP:20260420T034047
CREATED:20201031T164601Z
LAST-MODIFIED:20201031T164601Z
UID:3029-1606498200-1606507200@blueridgeestates.org
SUMMARY:Tree Lighting at Blue Ridge Community Church
DESCRIPTION:Annual Holiday lighting event at Blue Ridge Community Church on November 27th.  The event starts at 5:30pm.  Tree Lighting will be at dark.  Cookies and Hot Chocolate will be served.
URL:https://blueridgeestates.org/event/tree-lighting-at-blue-ridge-community-church/
LOCATION:Blue Ridge Community Church
END:VEVENT
END:VCALENDAR